BEGIN:VCALENDAR
VERSION:2.0
PRODID:-//http://troop11stamford.org//NONSGML kigkonsult.se iCalcreator 2.41.71//
CALSCALE:GREGORIAN
METHOD:PUBLISH
UID:64323665-6466-4935-b433-326234353133
X-WR-CALNAME:JCal Pro Calendar
X-WR-CALDESC:Your online events calendar
X-WR-TIMEZONE:America/New_York
BEGIN:VTIMEZONE
TZID:America/New_York
TZUNTIL:20271107T060000Z
BEGIN:STANDARD
TZNAME:EST
DTSTART:20251102T020000
TZOFFSETFROM:-0400
TZOFFSETTO:-0500
RDATE:20261101T020000
END:STANDARD
BEGIN:DAYLIGHT
TZNAME:EDT
DTSTART:20260308T020000
TZOFFSETFROM:-0500
TZOFFSETTO:-0400
RDATE:20270314T020000
END:DAYLIGHT
END:VTIMEZONE
BEGIN:VEVENT
UID:20230116T120000EST-7324sDU2WD@http://www.troop11stamford.org/
DTSTAMP:20260422T104110Z
CATEGORIES:Holidays
DTSTART;TZID=America/New_York:20230116T000000
DTEND;TZID=America/New_York:20230116T235959
SUMMARY:MLK Day - No School
URL:http://troop11stamford.org/index.php/troop-calendar/14-holidays/162-mlk
 -day-no-school
END:VEVENT
BEGIN:VEVENT
UID:20230120T190000EST-7695Z30Suu@http://www.troop11stamford.org/
DTSTAMP:20260422T104110Z
CATEGORIES:Uncategorised
DTSTART;TZID=America/New_York:20230120T190000
DTEND;TZID=America/New_York:20230120T200000
SUMMARY:Present Bloody Monday to Pack 11
URL:http://troop11stamford.org/index.php/troop-calendar/11-uncategorised/20
 9-present-bloody-monday-to-pack-11
END:VEVENT
BEGIN:VEVENT
UID:20230121T200000EST-7739HkcBbn@http://www.troop11stamford.org/
DTSTAMP:20260422T104110Z
CATEGORIES:Outings
DESCRIPTION:<p>Travel North to Hoyt\, the land of the Vikings\, for a weeke
 nd of winter camping and activities. Hosted by Troop 11 Stamford\, Patrols
  will compete in a series of activities overseen by “Thor” -- the hammer-w
 ielding god associated with lightning\, thunder\, storms\, strength\, the 
 protection of humankind\, and for the Klondike\, the spirit of the Scout O
 ath and Law. The top three patrols will take home Thor’s Hammer. Bring you
 r Klondike Sled for a special Thor’s Chariot Race. A Viking Cooking Contes
 t is also in the planning.</p>\n<p>Sign up here: <a href='https://www.sign
 upgenius.com/go/30e054bafaa28a75-camporee1'>Klondike Signup Genius</a></p>
DTSTART;TZID=America/New_York:20230121T000000
DTEND;TZID=America/New_York:20230121T235959
SUMMARY:Klondike
URL:http://troop11stamford.org/index.php/troop-calendar/13-outings/206-klon
 dike
X-ALT-DESC;FMTTYPE=TEXT/HTML:<p>Travel North to Hoyt\, the land of the Viki
 ngs\, for a weekend of winter camping and activities. Hosted by Troop 11 S
 tamford\, Patrols will compete in a series of activities overseen by “Thor
 ” -- the hammer-wielding god associated with lightning\, thunder\, storms\
 , strength\, the protection of humankind\, and for the Klondike\, the spir
 it of the Scout Oath and Law. The top three patrols will take home Thor’s 
 Hammer. Bring your Klondike Sled for a special Thor’s Chariot Race. A Viki
 ng Cooking Contest is also in the planning.</p>\n<p>Sign up here: <a href=
 'https://www.signupgenius.com/go/30e054bafaa28a75-camporee1'>Klondike Sign
 up Genius</a></p>
END:VEVENT
END:VCALENDAR
