BEGIN:VCALENDAR
VERSION:2.0
PRODID:-//http://troop11stamford.org//NONSGML kigkonsult.se iCalcreator 2.41.71//
CALSCALE:GREGORIAN
METHOD:PUBLISH
UID:37643162-3865-4131-b639-303165613133
X-WR-CALNAME:JCal Pro Calendar
X-WR-CALDESC:Your online events calendar
X-WR-TIMEZONE:America/New_York
BEGIN:VTIMEZONE
TZID:America/New_York
TZUNTIL:20271107T060000Z
BEGIN:STANDARD
TZNAME:EST
DTSTART:20251102T020000
TZOFFSETFROM:-0400
TZOFFSETTO:-0500
RDATE:20261101T020000
END:STANDARD
BEGIN:DAYLIGHT
TZNAME:EDT
DTSTART:20260308T020000
TZOFFSETFROM:-0500
TZOFFSETTO:-0400
RDATE:20270314T020000
END:DAYLIGHT
END:VTIMEZONE
BEGIN:VEVENT
UID:20230930T080000EDT-5658kL6uPk@http://www.troop11stamford.org/
DTSTAMP:20260421T145711Z
CATEGORIES:Outings
DESCRIPTION:<p>Details to come</p>
DTSTART;TZID=America/New_York:20230930T080000
DTEND;TZID=America/New_York:20231001T130000
SUMMARY:Camping - Norwalk Island
URL:http://troop11stamford.org/index.php/troop-calendar/13-outings/229-camp
 ing-norwalk-island
X-ALT-DESC;FMTTYPE=TEXT/HTML:<p>Details to come</p>
END:VEVENT
BEGIN:VEVENT
UID:20231002T190000EDT-7124HGjoN4@http://www.troop11stamford.org/
DTSTAMP:20260421T145711Z
CATEGORIES:Meetings
DESCRIPTION:<p>At Fort Stamford</p>
DTSTART;TZID=America/New_York:20231002T193000
DTEND;TZID=America/New_York:20231002T210000
SUMMARY:Troop Meeting
URL:http://troop11stamford.org/index.php/troop-calendar/12-meetings/226-tro
 op-meeting
X-ALT-DESC;FMTTYPE=TEXT/HTML:<p>At Fort Stamford</p>
END:VEVENT
BEGIN:VEVENT
UID:20231003T193000EDT-8064ugvF9a@http://www.troop11stamford.org/
DTSTAMP:20260421T145711Z
CATEGORIES:Uncategorised
DTSTART;TZID=America/New_York:20231003T193000
DTEND;TZID=America/New_York:20231003T203000
SUMMARY:Committee Meeting
URL:http://troop11stamford.org/index.php/troop-calendar/11-uncategorised/23
 0-committee-meeting-2
END:VEVENT
BEGIN:VEVENT
UID:20231009T180000EDT-0066CHNpZv@http://www.troop11stamford.org/
DTSTAMP:20260421T145711Z
CATEGORIES:Holidays
DTSTART;TZID=America/New_York:20231009T000000
DTEND;TZID=America/New_York:20231009T235959
SUMMARY:Columbus Day - No Meeting
URL:http://troop11stamford.org/index.php/troop-calendar/14-holidays/231-col
 umbus-day-no-meeting
END:VEVENT
BEGIN:VEVENT
UID:20231016T193000EDT-8122DgleME@http://www.troop11stamford.org/
DTSTAMP:20260421T145711Z
CATEGORIES:Meetings
DESCRIPTION:<p>At Fort Stamford</p>
DTSTART;TZID=America/New_York:20231016T193000
DTEND;TZID=America/New_York:20231016T210000
SUMMARY:Troop Meeting
URL:http://troop11stamford.org/index.php/troop-calendar/12-meetings/232-tro
 op-meeting
X-ALT-DESC;FMTTYPE=TEXT/HTML:<p>At Fort Stamford</p>
END:VEVENT
BEGIN:VEVENT
UID:20231023T193000EDT-2921Gm88GE@http://www.troop11stamford.org/
DTSTAMP:20260421T145711Z
CATEGORIES:Meetings
DESCRIPTION:<p>At Fort Stamford</p>
DTSTART;TZID=America/New_York:20231023T193000
DTEND;TZID=America/New_York:20231023T210000
SUMMARY:Troop Meeting
URL:http://troop11stamford.org/index.php/troop-calendar/12-meetings/233-tro
 op-meeting
X-ALT-DESC;FMTTYPE=TEXT/HTML:<p>At Fort Stamford</p>
END:VEVENT
BEGIN:VEVENT
UID:20231028T080000EDT-2256O5cRbh@http://www.troop11stamford.org/
DTSTAMP:20260421T145711Z
CATEGORIES:Outings
DESCRIPTION:<p>Details to come</p>
DTSTART;TZID=America/New_York:20231028T080000
DTEND;TZID=America/New_York:20231029T130000
SUMMARY:Camporee - Hoyt
URL:http://troop11stamford.org/index.php/troop-calendar/13-outings/235-camp
 oree-hoyt
X-ALT-DESC;FMTTYPE=TEXT/HTML:<p>Details to come</p>
END:VEVENT
BEGIN:VEVENT
UID:20231030T193000EDT-9405lrBn6m@http://www.troop11stamford.org/
DTSTAMP:20260421T145711Z
CATEGORIES:Meetings
DESCRIPTION:<p>At Fort Stamford</p>
DTSTART;TZID=America/New_York:20231030T193000
DTEND;TZID=America/New_York:20231030T210000
SUMMARY:Troop Meeting
URL:http://troop11stamford.org/index.php/troop-calendar/12-meetings/234-tro
 op-meeting
X-ALT-DESC;FMTTYPE=TEXT/HTML:<p>At Fort Stamford</p>
END:VEVENT
END:VCALENDAR
