BEGIN:VCALENDAR
VERSION:2.0
PRODID:-//http://troop11stamford.org//NONSGML kigkonsult.se iCalcreator 2.41.71//
CALSCALE:GREGORIAN
METHOD:PUBLISH
UID:34633266-6464-4562-b535-643164656534
X-WR-CALNAME:JCal Pro Calendar
X-WR-CALDESC:Your online events calendar
X-WR-TIMEZONE:America/New_York
BEGIN:VTIMEZONE
TZID:America/New_York
TZUNTIL:20271107T060000Z
BEGIN:STANDARD
TZNAME:EST
DTSTART:20251102T020000
TZOFFSETFROM:-0400
TZOFFSETTO:-0500
RDATE:20261101T020000
END:STANDARD
BEGIN:DAYLIGHT
TZNAME:EDT
DTSTART:20260308T020000
TZOFFSETFROM:-0500
TZOFFSETTO:-0400
RDATE:20270314T020000
END:DAYLIGHT
END:VTIMEZONE
BEGIN:VEVENT
UID:20230107T120000EST-5166kIVOiH@http://www.troop11stamford.org/
DTSTAMP:20260420T133106Z
CATEGORIES:Meetings
DESCRIPTION:<p>This is a leadership Greenbar to finalize Klondike stations.
  </p>
DTSTART;TZID=America/New_York:20230107T120000
DTEND;TZID=America/New_York:20230107T140000
SUMMARY:Greenbar Klondike Prep
URL:http://troop11stamford.org/index.php/troop-calendar/12-meetings/208-gre
 enbar-klondike-prep
X-ALT-DESC;FMTTYPE=TEXT/HTML:<p>This is a leadership Greenbar to finalize K
 londike stations. </p>
END:VEVENT
END:VCALENDAR
