BEGIN:VCALENDAR
VERSION:2.0
PRODID:-//http://troop11stamford.org//NONSGML kigkonsult.se iCalcreator 2.41.71//
CALSCALE:GREGORIAN
METHOD:PUBLISH
UID:62373564-6337-4535-a630-316138306137
X-WR-CALNAME:JCal Pro Calendar
X-WR-CALDESC:Your online events calendar
X-WR-TIMEZONE:America/New_York
BEGIN:VTIMEZONE
TZID:America/New_York
TZUNTIL:20271107T060000Z
BEGIN:STANDARD
TZNAME:EST
DTSTART:20251102T020000
TZOFFSETFROM:-0400
TZOFFSETTO:-0500
RDATE:20261101T020000
END:STANDARD
BEGIN:DAYLIGHT
TZNAME:EDT
DTSTART:20260308T020000
TZOFFSETFROM:-0500
TZOFFSETTO:-0400
RDATE:20270314T020000
END:DAYLIGHT
END:VTIMEZONE
BEGIN:VEVENT
UID:20211231T190000EST-9704hAEWL1@https://troop11stamford.org/
DTSTAMP:20260425T111721Z
CATEGORIES:Meetings
DESCRIPTION:<p>Snow Meeting at Scofield</p>
DTSTART;TZID=America/New_York:20220131T190000
DTEND;TZID=America/New_York:20220131T203000
SUMMARY:Troop Meeting
URL:http://troop11stamford.org/index.php/troop-calendar/12-meetings/64-troo
 p-meeting-x
X-ALT-DESC;FMTTYPE=TEXT/HTML:<p>Snow Meeting at Scofield</p>
END:VEVENT
END:VCALENDAR
