BEGIN:VCALENDAR
VERSION:2.0
PRODID:-//http://troop11stamford.org//NONSGML kigkonsult.se iCalcreator 2.41.71//
CALSCALE:GREGORIAN
METHOD:PUBLISH
UID:34373630-3839-4932-b964-353264383764
X-WR-CALNAME:JCal Pro Calendar
X-WR-CALDESC:Your online events calendar
X-WR-TIMEZONE:America/New_York
BEGIN:VTIMEZONE
TZID:America/New_York
TZUNTIL:20271107T060000Z
BEGIN:STANDARD
TZNAME:EST
DTSTART:20251102T020000
TZOFFSETFROM:-0400
TZOFFSETTO:-0500
RDATE:20261101T020000
END:STANDARD
BEGIN:DAYLIGHT
TZNAME:EDT
DTSTART:20260308T020000
TZOFFSETFROM:-0500
TZOFFSETTO:-0400
RDATE:20270314T020000
END:DAYLIGHT
END:VTIMEZONE
BEGIN:VEVENT
UID:20211113T070000EST-5484U8NV2r@https://troop11stamford.org/
DTSTAMP:20260421T130841Z
CATEGORIES:Outings
DESCRIPTION:<p>The Appalachian Trail hike. We have equipment to lend out. P
 lease contact a scoutmaster for information. </p>\n<p> Sign up for the tri
 p here: <a href='https://www.signupgenius.com/go/30e054bafaa28a75-athike'>
 Fall AT Hike</a></p>
DTSTART;TZID=America/New_York:20211113T070000
DTEND;TZID=America/New_York:20211114T122000
SUMMARY:Fall AT Hike
URL:http://troop11stamford.org/index.php/troop-calendar/13-outings/10-fall-
 at-hike
X-ALT-DESC;FMTTYPE=TEXT/HTML:<p>The Appalachian Trail hike. We have equipme
 nt to lend out. Please contact a scoutmaster for information. </p>\n<p> Si
 gn up for the trip here: <a href='https://www.signupgenius.com/go/30e054ba
 faa28a75-athike'>Fall AT Hike</a></p>
END:VEVENT
END:VCALENDAR
