BEGIN:VCALENDAR
VERSION:2.0
PRODID:-//http://troop11stamford.org//NONSGML kigkonsult.se iCalcreator 2.41.71//
CALSCALE:GREGORIAN
METHOD:PUBLISH
UID:61366361-3662-4662-b866-336564323464
X-WR-CALNAME:JCal Pro Calendar
X-WR-CALDESC:Your online events calendar
X-WR-TIMEZONE:America/New_York
BEGIN:VTIMEZONE
TZID:America/New_York
TZUNTIL:20271107T060000Z
BEGIN:STANDARD
TZNAME:EST
DTSTART:20251102T020000
TZOFFSETFROM:-0400
TZOFFSETTO:-0500
RDATE:20261101T020000
END:STANDARD
BEGIN:DAYLIGHT
TZNAME:EDT
DTSTART:20260308T020000
TZOFFSETFROM:-0500
TZOFFSETTO:-0400
RDATE:20270314T020000
END:DAYLIGHT
END:VTIMEZONE
BEGIN:VEVENT
UID:20220411T160000EDT-0913fVoXbz@https://troop11stamford.org/
DTSTAMP:20260421T121155Z
CATEGORIES:Holidays
DTSTART;TZID=America/New_York:20220411T070000
DTEND;TZID=America/New_York:20220415T174300
SUMMARY:Spring Break
URL:http://troop11stamford.org/index.php/troop-calendar/14-holidays/94-spri
 ng-break-no-school
END:VEVENT
END:VCALENDAR
