BEGIN:VCALENDAR
VERSION:2.0
PRODID:-//http://troop11stamford.org//NONSGML kigkonsult.se iCalcreator 2.41.71//
CALSCALE:GREGORIAN
METHOD:PUBLISH
UID:64643735-3863-4166-b961-656262343739
X-WR-CALNAME:JCal Pro Calendar
X-WR-CALDESC:Your online events calendar
X-WR-TIMEZONE:America/New_York
BEGIN:VTIMEZONE
TZID:America/New_York
TZUNTIL:20271107T060000Z
BEGIN:STANDARD
TZNAME:EST
DTSTART:20251102T020000
TZOFFSETFROM:-0400
TZOFFSETTO:-0500
RDATE:20261101T020000
END:STANDARD
BEGIN:DAYLIGHT
TZNAME:EDT
DTSTART:20260308T020000
TZOFFSETFROM:-0500
TZOFFSETTO:-0400
RDATE:20270314T020000
END:DAYLIGHT
END:VTIMEZONE
BEGIN:VEVENT
UID:20230930T080000EDT-5658kL6uPk@http://www.troop11stamford.org/
DTSTAMP:20260421T162805Z
CATEGORIES:Outings
DESCRIPTION:<p>Details to come</p>
DTSTART;TZID=America/New_York:20230930T080000
DTEND;TZID=America/New_York:20231001T130000
SUMMARY:Camping - Norwalk Island
URL:http://troop11stamford.org/index.php/troop-calendar/13-outings/229-camp
 ing-norwalk-island
X-ALT-DESC;FMTTYPE=TEXT/HTML:<p>Details to come</p>
END:VEVENT
END:VCALENDAR
